BEGIN:VCALENDAR
VERSION:2.0
PRODID:-//Russian speaking community - ECPv4.9.3.2//NONSGML v1.0//EN
CALSCALE:GREGORIAN
METHOD:PUBLISH
X-WR-CALNAME:Russian speaking community
X-ORIGINAL-URL:https://www.hungarus.com
X-WR-CALDESC:Events for Russian speaking community
BEGIN:VEVENT
DTSTART;TZID=Europe/Budapest:20150303T093000
DTEND;TZID=Europe/Budapest:20150303T133000
DTSTAMP:20260422T054540
CREATED:20150224T221145Z
LAST-MODIFIED:20150224T222555Z
UID:1865-1425375000-1425389400@www.hungarus.com
SUMMARY:Oroszországi alkoholpiac: a kijutás lehetőségei és módozatai
DESCRIPTION:\nTisztelt Hölgyeim és Uraim ! \nTájékoztatjuk Önöket\, hogy 2015.03.03-án Budapesten “Oroszországi alkoholpiac: a kijutás lehetőségei és módozatai” címmel szeminárium kerül megrendezésre\, amelyre résztvevőként meghívjuk Önöket. \nA rendezvény helyszíne: Thököly Vendéglő (1146 Budapest\, Thököly út 80.). \nA szemináriumot a “Nemzetközi Enogasztronómiai Központ” elnöke\, az International Wine & Food Society Moszkvai (Nemzeti) osztályának elnöke\, Leonid Gelibterman (Moszkva\, Oroszország) tartja. \nLeonid Gelibterman:\nA tömény szeszesitalok és borok nemzetközi bírája\n“Oroszország sommelier és szakértő Szövetségének” tiszteletbeli tagja\nChaine des Rotisseurs francia gasztronómiai egyesület lovagja\nJerez (spanyol) borok akkreditált szakértője\nAz Asia Wine Service & Educational Centre (Hongkong) oroszországi képviseletének vezetője\nAz “Enogasztronómiai etikett és protokoll” tanfolyam előadója és szerzője\nA “Bor ABC” és a “Gourmand-utazó Nagykönyve” c. könyvek szerzője. \nA szeminárium célja: \ntájékoztatni a szeminárium résztvevőit Oroszország szeszesital-piacának helyzetéről\,\nbemutatni\, miképpen mozdítható elő a magyar borok és italok oroszországi piacra történő kijuttatása. \nA szeminárium szervezői:\nInternational Wine & Food Society\, “Nemzetközi Enogasztronómiai Központ” (Oroszország\, Moszkva). \nA szeminárium programja:\n09.30-10.00 A résztvevők regisztrálása.\n10.00-11.00 “Oroszországi szeszesital-piac. Az importőrökkel való munka tendenciái és sajátosságai”.\n11.00-11.20 Kávészünet.\n11.20-12.00 “Professzionális bor-gasztronómiai szalonok”\n12.30-13.30 Ebéd. \nA rendezvény hivatalos nyelve: magyar\, orosz. \nA szemináriumon való részvétel díja: 12 700 Ft. \nA résztvevők regisztrációja e-mailben 2015.02.28-ig: hungary.iwfs@gmail.com\nA résztvevők száma korlátozott. \nTisztelettel\,\nAlexandr Merezsko\nInternational Wine & Food Society\n(Kontakt: Csabai Béla\, telefon +36 1 789 0614) \n\n
URL:https://www.hungarus.com/event/szeminarium_oroszorszagi-alkoholpiac/
LOCATION:Thököly Vendéglő\, Thököly út 80\, Budapest\, Будапешт\, 1146\, Венгрия
CATEGORIES:Мероприятия в Будапеште
ATTACH;FMTTYPE=image/png:https://www.hungarus.com/wp-content/uploads/2015/02/IWFS.png
END:VEVENT
END:VCALENDAR