BEGIN:VCALENDAR
VERSION:2.0
PRODID:-//Russian speaking community - ECPv4.9.3.2//NONSGML v1.0//EN
CALSCALE:GREGORIAN
METHOD:PUBLISH
X-WR-CALNAME:Russian speaking community
X-ORIGINAL-URL:https://www.hungarus.com
X-WR-CALDESC:Events for Russian speaking community
BEGIN:VEVENT
DTSTART;TZID=Europe/Budapest:20150523T080000
DTEND;TZID=Europe/Budapest:20150523T170000
DTSTAMP:20260424T114442
CREATED:20150514T151304Z
LAST-MODIFIED:20150521T134042Z
UID:3977-1432368000-1432400400@www.hungarus.com
SUMMARY:Поездка в Шопрон и Кёсег
DESCRIPTION:Дорогие друзья и уважаемые коллеги! \nРусско-венгерское объединение «Истоки» организует однодневную поездку\nв Шопрон и Кёсег. \nОтправление комфортабельного автобуса от Российского Культурного Центра (Андрашши ут 120)\n23 мая 2015 г. в 8 часов.\nВозвращение в Будапешт около 19 часов. \nП Р О Г Р А М М А \n1. 8.00. Отправление автобуса.\n2. 11.00. Прибытие в Шопрон.\n3. 11.00. – 12.30. Экскурсия по городу\, осмотр достопримечательностей.\n4. 12.30. – 13.30. Обед.\n5. 13.30. – 14.00. Переезд в Кёсег.\n6. 14.00. – 15.30. Экскурсия по городу\, осмотр достопримечательностей.\n7. 15.30. – 16.00. Отправление в Будапешт.\n8. 19.00. Прибытие в Будапешт. \nВ поездке могут принять участие минимум 16 человек. \nСтоимость: 7 500 фт. с человека. \nМаленькие дети\, не занимающие отдельного места\, едут бесплатно.\nЧленам объединения «Истоки» и детям до 18 лет предоставляется скидка 500 фт.\nВ стоимость входят дорога и экскурсионное обслуживание на русском языке.\nВ поездке нас будет сопровождать гид-экскурсовод Татьяна Лебедева. \nПросьба записаться на поездку и оплатить её по 20 мая включительно.\nПри недоборе группы будет или сделан перерасчёт с небольшой доплатой или поездка будет отменена.\nПри отказе от оплаченной поездки в период с 21 по 23 мая деньги будут возвращаться только при нахождении замены. \nЗапись на поездку и информация:\njakovlev48@gmail.com или\nтел.: 06 (20) 992-8675 \n\n  \n
URL:https://www.hungarus.com/event/sopron_koszog/
CATEGORIES:Мероприятия в Будапеште
ATTACH;FMTTYPE=image/jpeg:https://www.hungarus.com/wp-content/uploads/2015/05/Sopron.jpg
END:VEVENT
END:VCALENDAR