BEGIN:VCALENDAR
VERSION:2.0
PRODID:-//Russian speaking community - ECPv4.9.3.2//NONSGML v1.0//EN
CALSCALE:GREGORIAN
METHOD:PUBLISH
X-WR-CALNAME:Russian speaking community
X-ORIGINAL-URL:https://www.hungarus.com
X-WR-CALDESC:Events for Russian speaking community
BEGIN:VEVENT
DTSTART;TZID=Europe/Budapest:20151231T190000
DTEND;TZID=Europe/Budapest:20160101T170000
DTSTAMP:20260424T195309
CREATED:20151202T140242Z
LAST-MODIFIED:20151202T140438Z
UID:6455-1451588400-1451667600@www.hungarus.com
SUMMARY:Встреча Нового Года - 2016
DESCRIPTION:\nСамый любимый всеми праздник – проводы старого и встреча нового года!\nМожно веселиться везде\, со старой компанией или с новыми друзьями или в семейном кругу.\nВ поместье братьев Лазар можно собраться и хорошо провести вечер как с друзьями\, так и с близкими вам людьми. \nВстреча гостей с новогодним коктейлем: с 19 часов\nПраздничный ужин: состоит из 4-х блюд\nпосле полуночи: шведский стол\nнеограниченное употребление напитков\, в том числе крепких \nНа протяжение всего вечера во всех трёх чардах музыкальное сопровождение:\nансамбль DEME\, Family Duó\, Discofer и\nзвёздный гость – BEBE \nСтоимость ужина с программой: 21\,900 Фор \nБронирование столиков по телефону: +36 30 871 3424\, +36 30 444 9330 или на емайл: lazarlovaspark@lazarlovaspark.hu \nАДРЕС: \n2182 Domonyvölgy\, Fenyő u.47. \nЕсли у вас уже есть планы на Новогодний вечер\, то вас ждут здесь 1 января с конным шоу и вкусным обедом.\nЗаранее бронируйте места по вышеуказанным телефонам или на емайл. \n  \n  \n
URL:https://www.hungarus.com/event/new_year_2016_lazarlovaspark/
LOCATION:Lázár Lovaspark\, Fenyő u.47.\, Domonyvölgy
CATEGORIES:New Year,Мероприятия в Будапеште
END:VEVENT
END:VCALENDAR