BEGIN:VCALENDAR
VERSION:2.0
PRODID:-//Russian speaking community - ECPv4.9.3.2//NONSGML v1.0//EN
CALSCALE:GREGORIAN
METHOD:PUBLISH
X-WR-CALNAME:Russian speaking community
X-ORIGINAL-URL:https://www.hungarus.com
X-WR-CALDESC:Events for Russian speaking community
BEGIN:VEVENT
DTSTART;TZID=Europe/Budapest:20150829T140000
DTEND;TZID=Europe/Budapest:20150830T140000
DTSTAMP:20260424T155543
CREATED:20150511T160913Z
LAST-MODIFIED:20150511T163257Z
UID:3792-1440856800-1440943200@www.hungarus.com
SUMMARY:Violetta in Budapest
DESCRIPTION:\n\n\n
URL:https://www.hungarus.com/event/koncertek_budapest_violetta/
LOCATION:Papp László Budapest Sportaréna\, Stefánia út 2.\, BUDAPEST\, 1143\, Венгрия
CATEGORIES:Мероприятия в Будапеште
ATTACH;FMTTYPE=image/jpeg:https://www.hungarus.com/wp-content/uploads/2015/05/violetta_budapest.jpg
END:VEVENT
END:VCALENDAR