BEGIN:VCALENDAR
VERSION:2.0
PRODID:-//Russian speaking community - ECPv4.9.3.2//NONSGML v1.0//EN
CALSCALE:GREGORIAN
METHOD:PUBLISH
X-WR-CALNAME:Russian speaking community
X-ORIGINAL-URL:https://www.hungarus.com
X-WR-CALDESC:Events for Russian speaking community
BEGIN:VEVENT
DTSTART;TZID=Europe/Budapest:20150326T180000
DTEND;TZID=Europe/Budapest:20150326T190000
DTSTAMP:20260421T181327
CREATED:20150312T105708Z
LAST-MODIFIED:20150312T202117Z
UID:1981-1427392800-1427396400@www.hungarus.com
SUMMARY:Дни российской культуры в Венгрии - концерт
DESCRIPTION:\n\n26 марта в 18:00\n«Свежий ветер с Востока…»\nузыкальный концерт ансамбля «Терем-Квартет» с участием солистки Мариинского театра Екатерины Соловьевой.\nТерем-Квартет – музыкальный коллектив народных инструментов из Санкт-Петербурга\, исполняющий музыку в стиле классический кроссовер.\nВ состав квартета в настоящее время входят: Андрей Константинов – малая домра\, Андрей Смирнов – баян\, Михаил Дзюдзе – балалайка-контрабас\, Алексей Барщёв – домра-альт.\nБританская газета «Индепендент» писала о «Терем-Квартете»: «Любовь\, ненависть\, ирония\, более философские чувства\, все они смешаны по-русски в музыке “Терем-квартета”\, и все это очень духовно…». \n«Терем-квартет» часто выступает «посланником» России на мероприятиях международного значения\, именно по этой причине ансамбль называют «визитной карточкой»\, ставя в один ряд с Эрмитажем\, Мариинским театром. Репертуар ансамбля включает больше 500 оригинальных композиций классической и современной музыки\, как бы сочиненной ими заново. За свою 27-летнюю деятельность «Терем-квартет» дал свыше 3 000 концертов\, выступил в 60 странах мира\, участвовал в 65 фестивалях по всему миру. Оригинальную музыкальную программу украсит сопрано Екатерины Соловьевой. Екатерина Соловьева солировала с оперными труппами Мариинского театра и театра Ла Скала. Синтез виртуозного инструментального исполнения и великолепного вокала превратит этот концерт в настоящий музыкальный праздник. \n\nПродолжительность концерта 1 час. \nМесто: Российский центр науки и культуры в Венгрии \n1062 Andrássy út 120.\nТел.: (1) 332 2154\nmail@ruscenter.hu \n\n\n
URL:https://www.hungarus.com/event/koncert/
LOCATION:Российский центр науки и культуры
CATEGORIES:Мероприятия в Будапеште
ATTACH;FMTTYPE=image/jpeg:https://www.hungarus.com/wp-content/uploads/2015/03/terem_kqartet.jpg
END:VEVENT
END:VCALENDAR