BEGIN:VCALENDAR
VERSION:2.0
PRODID:-//Russian speaking community - ECPv4.9.3.2//NONSGML v1.0//EN
CALSCALE:GREGORIAN
METHOD:PUBLISH
X-WR-CALNAME:Russian speaking community
X-ORIGINAL-URL:https://www.hungarus.com
X-WR-CALDESC:Events for Russian speaking community
BEGIN:VEVENT
DTSTART;TZID=Europe/Budapest:20150304T180000
DTEND;TZID=Europe/Budapest:20150304T200000
DTSTAMP:20260422T035854
CREATED:20150226T205928Z
LAST-MODIFIED:20150227T071638Z
UID:1871-1425492000-1425499200@www.hungarus.com
SUMMARY:Выставка - "Три грации" - Kiállítás
DESCRIPTION:\nТри прекрасных художника\, три тонких души – разное происхождение\, но связывает одно – искусство! \nНе пропустите возможность познакомиться с талатливыми художницами и полюбоваться их произведениями. \n\nMárcius 4-től rendhagyó kiállítás a nőiesség jegyében \nMárcius 4-én\, a Nemzetközi Nőnap alkalmából\, különleges kiállítás nyílik a SAJTÓHÁZ Mikszáth termében (1068 Budapest\, Vörösmarty u. 47. a). \nHárom életút\, három színvilág\, három grácia. \nÁROM GRÁCIA – avagy a női lélek szárnyalásai\nSzínek és érzések harmóniája\, keveredése\, festékek\, selymek üvegek\, álmok és kultúrák találkozása… Vásznak\, kendők\, csillogó üvegfelületek kínálnak kivételes alkalmat a három gráciának\, hogy a nagyvilág elé tárják képzeletük elragadó szülötteit. \nKovách V. Elina művei közül ezúttal plasztikus üvegfestményeiben gyönyörködhetnek majd az érdeklődők. \nPállay Kovács Szilvia az akvarell\, tus és akril ezer árnyalatával varázsol elénk hihetetlen hangulatokat. \nSzikszai Ágnes simogató fátylain szinte életre kelnek a selyembe öltözött minták… \nA három tehetséges művész alkotásait március 19-ig lehet megtekinteni. \nSzeretettel várunk a megnyitón\, március 4-én\, ahol Mező Zoltán és Gyarmati Gábor előadóművészek (gitár és buzuki) zenélnek. \nMEGNYITÓ: 2015. március 4. 18 00 óra \nHELYSZÍN: SAJTÓHÁZ\, Mikszáth terem (1064 Budapest\, Vörösmarty u. 47. a) \n\n  \n
URL:https://www.hungarus.com/event/kiallitas_harom_gracia/
LOCATION:MÚOSZ\, Vörösmarty u.47 a\, Будапешт\, 1064\, Венгрия
CATEGORIES:Мероприятия в Будапеште
ATTACH;FMTTYPE=image/jpeg:https://www.hungarus.com/wp-content/uploads/2015/02/Kiallitas_Elina_04.jpeg
END:VEVENT
END:VCALENDAR