BEGIN:VCALENDAR
VERSION:2.0
PRODID:-//Russian speaking community - ECPv4.9.3.2//NONSGML v1.0//EN
CALSCALE:GREGORIAN
METHOD:PUBLISH
X-WR-CALNAME:Russian speaking community
X-ORIGINAL-URL:https://www.hungarus.com
X-WR-CALDESC:Events for Russian speaking community
BEGIN:VEVENT
DTSTART;VALUE=DATE:20150319
DTEND;VALUE=DATE:20150404
DTSTAMP:20260421T200102
CREATED:20150311T201717Z
LAST-MODIFIED:20150311T205523Z
UID:1971-1426723200-1428105599@www.hungarus.com
SUMMARY:Дни российской культуры в Венгрии - выставка
DESCRIPTION:с 19 марта по 3 апреля\nФотовыставка «Достопримечательности России» Московского дома фотографии (Multimedia Art Museum) \nоссия – страна с бурной многовековой историей и богатой культурой. Многие архитектурные и историко-культурные памятники на территории страны внесены в список объектов Всемирного Наследия ЮНЕСКО\, в том числе Московский Кремль и Красная площадь\, исторический центр Санкт-Петербурга и дворцово-парковые комплексы его окрестностей\, историко-культурный комплекс Соловецких островов\, белокаменные памятники древней Владимиро-Суздальской земли и городов «Золотого кольца»\, музей-заповедник «Кижи» и другие. Для выставки были отобраны 70 кадров\, рассказывающих о красотах России.  \nЭтот проект – попытка собирательного образа страны\, возможность знакомства не только с самыми знаменитыми и знаковыми достопримечательностями России (Москва\, Санкт-Петербург\, остров Валаам\, Вологда и др.)\, но и с труднодоступными и удаленными (озеро Байкал\, Башкирия\, Якутия\, Эльбрус\, Урал\, Ханты-Мансийск\, Петропавловск-Камчатский и др.). В составе выставки представлены работы ведущих российских фотографов из собрания музея «Московский дом фотографии»\, архива РИА Новости\, агентства «Фотосоюз» и частных коллекций.  \nОткрытие выставки 19 марта в 18.00. \n
URL:https://www.hungarus.com/event/kiallitas/
LOCATION:Multimedia Art Museum\,  Andrássy út\, 120\, Budapest\, 1062\, Венгрия
CATEGORIES:Мероприятия в Будапеште
END:VEVENT
END:VCALENDAR