BEGIN:VCALENDAR
VERSION:2.0
PRODID:-//Russian speaking community - ECPv4.9.3.2//NONSGML v1.0//EN
CALSCALE:GREGORIAN
METHOD:PUBLISH
X-WR-CALNAME:Russian speaking community
X-ORIGINAL-URL:https://www.hungarus.com
X-WR-CALDESC:Events for Russian speaking community
BEGIN:VEVENT
DTSTART;TZID=Europe/Budapest:20150531T100000
DTEND;TZID=Europe/Budapest:20150531T170000
DTSTAMP:20260424T140639
CREATED:20150503T185627Z
LAST-MODIFIED:20150506T075344Z
UID:3160-1433066400-1433091600@www.hungarus.com
SUMMARY:Всемирный День защиты детей
DESCRIPTION:Среди многочисленных мероприятий\, проводимых в этом прекрасном месте\, организуется масштабный праздник для детей\, а так же их родителей в честь “Дня детей”. \n\n\n31 мая (воскресенье) с 10 часов \n10:00 – встреча гостей свежеиспечёнными погачами\, палинкой и безалкогольными напитками\n12:00 – Конное представление\n14:00 – Представление из сюжетов народных венгерских сказок\n15:00 – Танц-театр\nИгровая степная олимпиада для взрослых и детей. \nПРОГРАММЫ В ТЕЧЕНИЕ ДНЯ: прогулке на повозке по лесу\, катание на пони\, домашний зоопарк\, детский парк приключений\, поделки своими руками\, раскрашивание лица\, многочисленные игры. \nНа протяжение всего дня есть возможность покупать свеже приготовленные блюда на гриле и в котелке\, испечённый в печи лангош и кюртош калач\, а так же большой выбор мороженого и напитков. \nВХОДНОЙ БИЛЕТ:\nДля взрослых: 2\,500 Фт\nДля детей от 3 до 12 лет: 1\,250 Фт\nДля детей до 3 лет: бесплатно \nТолько по предварительному заказу по телефонам:\nпо венгерски: 06 30 444 9330\nпо русски: 06 30 680 8418 \nLÁZÁR LOVASPARK\nАдрес: 2182 Domony\, Fenyő u. 47.\nGPS: Sz.: É47.62949 H.: K19.40773 \n\n
URL:https://www.hungarus.com/event/gyereknap_lazar_lovaspark/
LOCATION:Lázár Lovaspark\, Fenyő u.47.\, Domonyvölgy
CATEGORIES:Мероприятия в Будапеште
ATTACH;FMTTYPE=image/jpeg:https://www.hungarus.com/wp-content/uploads/2015/05/D_D_1.jpg
END:VEVENT
END:VCALENDAR