BEGIN:VCALENDAR
VERSION:2.0
PRODID:-//Russian speaking community - ECPv4.9.3.2//NONSGML v1.0//EN
CALSCALE:GREGORIAN
METHOD:PUBLISH
X-WR-CALNAME:Russian speaking community
X-ORIGINAL-URL:https://www.hungarus.com
X-WR-CALDESC:Events for Russian speaking community
BEGIN:VEVENT
DTSTART;TZID=Europe/Budapest:20150515T170000
DTEND;TZID=Europe/Budapest:20150517T000000
DTSTAMP:20260422T073332
CREATED:20150510T212348Z
LAST-MODIFIED:20150510T214638Z
UID:3784-1431709200-1431820800@www.hungarus.com
SUMMARY:Праздник бельгийского пива в Будапеште
DESCRIPTION: \n\n\n\nСтоимость:\nПлата за вход 2800 или 4000 форинтов.\nБилет действует в течение двух дней мероприятия и включает в себя кружку пива и три или пять стаканов напитка Бельгии на фестиваль соответственно. \n\n\nЗнатоки любят бельгийское пиво за его разнообразие и ярко выраженный вкуc. \nБельгийцы любят пиво. Более того\, они любят и умеют делать хорошее пиво\, поэтому и пьют\, как правило\, только своё.\nЗа несколько лет своего проживания в Бельгии я заметила\, что бельгийцы пьют пиво очень часто и вне зависимости от времени суток.\nВ обеденный перерыв\, вечером с друзьями\, на праздниках\, дома перед телевизором. \nПиво в Бельгии – это продукт праздничный! Бутылки с пивом всегда украшены красочно\, часто обёрнуты в блестящую бумагу и выглядят как настоящий подарок. Бельгийское пиво\, по большей части\, плотное и крепкое. Часто в бельгийское пиво добавляют рис\, сахар\, мёд\, фрукты. \nУ каждого сорта пива есть cвой тип стакана\, и подавать его нужно только в нём\, так как читается\, что форма стакана усиливает вкус пива.\nВо многих городах Бельгии даже проводятся специальные экскурсии по пивоварням\, где в конце Вас угостят свежесваренным пивом. \nEсли Вы хотели бы знать больше о бельгийском пиве\, его сортах и истории\, читайте здесь полноценную информацию\, предоставленную официальной организациeй Бельгии – Туризм Фландрии\n\nА здесь\, на официальном сайте фестиваля\, вы найдёте описание представленных видов пива \n\nВаша Татьяна\nP.S.: Ваши впечатления от посещения Фестиваля можете оставлять в “комментариях” ниже.\nА если у вас есть интересные об этом фотографии и вы хотите ими поделится с другими читателями\,\nто присылайте на емаил:infonewstyle.com@gmail.com и мы их поместим в статью.\nПриятного времяпрепровождения! \n
URL:https://www.hungarus.com/event/festivalok_belga_sor/
CATEGORIES:Мероприятия в Будапеште
ATTACH;FMTTYPE=image/jpeg:https://www.hungarus.com/wp-content/uploads/2015/05/belga_sorfestival_2015.jpg
END:VEVENT
END:VCALENDAR