BEGIN:VCALENDAR
VERSION:2.0
PRODID:-//Russian speaking community - ECPv4.9.3.2//NONSGML v1.0//EN
CALSCALE:GREGORIAN
METHOD:PUBLISH
X-WR-CALNAME:Russian speaking community
X-ORIGINAL-URL:https://www.hungarus.com
X-WR-CALDESC:Events for Russian speaking community
BEGIN:VEVENT
DTSTART;TZID=Europe/Budapest:20200304T160000
DTEND;TZID=Europe/Budapest:20200304T193000
DTSTAMP:20260425T210636
CREATED:20200103T162758Z
LAST-MODIFIED:20200226T142433Z
UID:10414-1583337600-1583350200@www.hungarus.com
SUMMARY:Русский цирк на льду в Будапеште
DESCRIPTION:\n\n«Русский цирк на льду» – первый в мире цирк на льду – выступит с двойным представлением «Зимние сказки»\nв зале «BOK Csarnok» 4 марта 2020 года (в 16:00 и 19:30) \nБолее 50 лет русский цирк на льду очаровывает публику своим искусством благодаря великим актёрам: акробатам\, жонглёрам\, танцорам на канате\, фигуристам и клоунам\, выступающим на сверкающем льду. \nТруппа «Русский цирк на льду» отправляет зрителей в увлекательное путешествие с потрясающими ледовыми шоу и захватывающим дух цирковым искусством в волшебный мир сказки. \n«Зимние сказки» – это незабываемое представление на льду самых красивых историй всех времен: «Щелкунчик»\, «Снежная королева»\, «Алиса в стране чудес»\, «Спящая красавица»\, «Золушка» и «Принцесса Цирка». \nБлагодаря своему обаянию\, красоте и элегантности\, невероятной легкости и высочайшему уровню технической подготовки\, впечатляющим эффектным хореографам\, более 300 великолепных костюмов\, захватывающей музыке и акробатике\, труппа переносит зрителей в мир сказок.   Энергичный и элегантный ледяной балет в сочетании с великолепной русской цирковой программой подарят поистине волшебный образ и детям и взрослым. \nСпектакль «Зимние сказки» переносит зрителя в волшебное царство\, где царят добро и красота\, и каждая мечта может сбыться\, к которой\, будучи взрослым\, хочется возвращаться снова и снова. Словами нельзя выразить то\, что вы увидите\, услышите и почувствуете в этом шоу!\nВы просто должны увидеть это! \n\nКупить билеты можно здесь:  https://www.jegy.hu/program/russian-circus-on-ice-orosz-cirkusz-a-jegen-teli-mesek-winter-tales-110861/608864 \nДля тех\, кто приобрёл билеты на представление на 15 декабря: билеты на несостоявшееся представление  действительны и на новую дату – 4 марта.  \n
URL:https://www.hungarus.com/event/%d1%80%d1%83%d1%81%d1%81%d0%ba%d0%b8%d0%b9_%d1%86%d0%b8%d1%80%d0%ba_%d0%bd%d0%b0_%d0%bb%d1%8c%d0%b4%d1%83_%d0%b2_%d0%b1%d1%83%d0%b4%d0%b0%d0%bf%d0%b5%d1%88%d1%82%d0%b5/
LOCATION:BOK Csarnok\, Budapest\, Dózsa György út 1.\, Budapest\, 1146\, Венгрия
CATEGORIES:Мероприятия в Будапеште
ATTACH;FMTTYPE=image/jpeg:https://www.hungarus.com/wp-content/uploads/2020/01/цирк-на-льду-Будапешт3.jpg
END:VEVENT
END:VCALENDAR