BEGIN:VCALENDAR
VERSION:2.0
PRODID:-//Russian speaking community - ECPv4.9.3.2//NONSGML v1.0//EN
CALSCALE:GREGORIAN
METHOD:PUBLISH
X-WR-CALNAME:Russian speaking community
X-ORIGINAL-URL:https://www.hungarus.com
X-WR-CALDESC:Events for Russian speaking community
BEGIN:VEVENT
DTSTART;TZID=Europe/Budapest:20150512T080000
DTEND;TZID=Europe/Budapest:20150513T170000
DTSTAMP:20260422T054229
CREATED:20150506T195419Z
LAST-MODIFIED:20150506T195419Z
UID:3562-1431417600-1431536400@www.hungarus.com
SUMMARY:ежегодные встречи с белорусской культурой
DESCRIPTION: \n
URL:https://www.hungarus.com/event/%d0%b5%d0%b6%d0%b5%d0%b3%d0%be%d0%b4%d0%bd%d1%8b%d0%b5-%d0%b2%d1%81%d1%82%d1%80%d0%b5%d1%87%d0%b8-%d1%81-%d0%b1%d0%b5%d0%bb%d0%be%d1%80%d1%83%d1%81%d1%81%d0%ba%d0%be%d0%b9-%d0%ba%d1%83%d0%bb%d1%8c/
END:VEVENT
END:VCALENDAR